BEGIN:VCALENDAR
VERSION:2.0
PRODID:-//BiziCodés - ECPv6.15.20//NONSGML v1.0//EN
CALSCALE:GREGORIAN
METHOD:PUBLISH
X-ORIGINAL-URL:https://bizicodes.com
X-WR-CALDESC:Eventos para BiziCodés
REFRESH-INTERVAL;VALUE=DURATION:PT1H
X-Robots-Tag:noindex
X-PUBLISHED-TTL:PT1H
BEGIN:VTIMEZONE
TZID:UTC
BEGIN:STANDARD
TZOFFSETFROM:+0000
TZOFFSETTO:+0000
TZNAME:UTC
DTSTART:20280101T000000
END:STANDARD
END:VTIMEZONE
BEGIN:VEVENT
DTSTART;VALUE=DATE:20290204
DTEND;VALUE=DATE:20290205
DTSTAMP:20260420T082026
CREATED:20240326T141832Z
LAST-MODIFIED:20240326T141832Z
UID:10000423-1864857600-1864943999@bizicodes.com
SUMMARY:SANTA ÁGUEDA. CABREDO
DESCRIPTION:La víspera de la festividad de la santa\, 5 de febrero\, se acostumbra a salir\, en muchos pueblos\, a realizar rondas corales cantando coplas en honor al martirio y muerte de la santa.\nEsta es una estampa que se repite cada 4 de febrero\, víspera de Santa Águeda. Se recorren las calles cantando en honor a la Santa y se suelen acompañar de bastones y palos con los que se golpea el suelo rítmicamente.\nEste golpeo rítmico al suelo\, y el acto global en sí\, podría tener su origen en una llamada a la Madre Tierra para que termine de despertar tras el solsticio de invierno.\nUna vez terminada la ronda\, se organiza una merienda para todos los/as asistentes.
URL:https://bizicodes.com/evento/santa-agueda-cabredo/2029-02-04/
LOCATION:CABREDO\, CABREDO\, NAVARRA\, 31227\, España
CATEGORIES:Tradiciones
END:VEVENT
BEGIN:VEVENT
DTSTART;VALUE=DATE:20290224
DTEND;VALUE=DATE:20290225
DTSTAMP:20260420T082026
CREATED:20240326T141920Z
LAST-MODIFIED:20240326T141920Z
UID:10000429-1866585600-1866671999@bizicodes.com
SUMMARY:CARNAVAL. CABREDO
DESCRIPTION:En Cabredo\, las festividades de carnaval  se celebran dos fines de semana después de los carnavales tradicionales. Durante este día la gente se disfraza\, y a la noche hay una cena popular\, un evento que reúne a los habitantes y visitantes en un ambiente de festividad. Además de la cena\, se organiza una verbena\, momento perfecto para que la gente se divierta\, baile y disfrute de la música en un ambiente festivo y relajado.
URL:https://bizicodes.com/evento/carnaval-cabredo/2029-02-24/
LOCATION:CABREDO\, CABREDO\, NAVARRA\, 31227\, España
CATEGORIES:Actividad Recreativa
END:VEVENT
BEGIN:VEVENT
DTSTART;VALUE=DATE:20290318
DTEND;VALUE=DATE:20290319
DTSTAMP:20260420T082026
CREATED:20240326T165330Z
LAST-MODIFIED:20240326T165330Z
UID:10000450-1868486400-1868572799@bizicodes.com
SUMMARY:KORRIKA. CABREDO
DESCRIPTION:La Korrika fue puesta en marcha por AEK en 1980. Por aquel entonces\, la iniciativa tenía como objetivo recuperar el euskera\, objetivo que hoy en día sigue vigente\, ya que persigue la normalización e impulso del euskera. Es una marcha que se realiza cada dos años\, y se lleva a cabo en todo el territorio que abarca el euskera. AEK es la encargada de organizar la Korrika desde su inicio. La primera edición se celebró en 1980\, y\, hoy por hoy\, se ha convertido en la iniciativa más multitudinaria a favor del euskera en Euskal Herria\, el pueblo del euskera. Consiste en una carrera gigante que dura diez días: se recorren 2.500 kilómetros. Aunque el recorrido varía todos los años y no siempre pasa por la misma zona en 2024 la Korrika transcurrirá por tierras de Cabredo. (ver más)
URL:https://bizicodes.com/evento/korrika-cabredo/2029-03-18/
LOCATION:CABREDO\, CABREDO\, NAVARRA\, 31227\, España
CATEGORIES:Actividad Deportiva,Actividad Tiempo Libre
END:VEVENT
BEGIN:VEVENT
DTSTART;TZID=UTC:20291224T190000
DTEND;TZID=UTC:20291224T235900
DTSTAMP:20260420T082026
CREATED:20251017T141921Z
LAST-MODIFIED:20251017T141921Z
UID:10001254-1892833200-1892851140@bizicodes.com
SUMMARY:OLENTZERO. CABREDO
DESCRIPTION:El 24 de diciembre\, las calles de Cabredo se visten de festividad para recibir a Olentzero\, un carismático personaje de su tradición navideña. Este carbonero mitológico\, símbolo de generosidad y alegría\, realiza un recorrido especial por el pueblo\, saludando a los habitantes y esparciendo un ambiente de celebración. Al finalizar su paseo\, Olentzero llega a la sociedad local\, donde con gran entusiasmo reparte regalos\, llenando de ilusión y felicidad a grandes y pequeños. Su presencia no sólo marca el inicio de la Navidad\, sino que también mantiene viva una rica y entrañable tradición cultural.
URL:https://bizicodes.com/evento/olentzero-cabredo-2/2029-12-24/
LOCATION:CABREDO\, CABREDO\, NAVARRA\, 31227\, España
CATEGORIES:Actividad Escénica, exhibición o espectáculo
END:VEVENT
END:VCALENDAR