BEGIN:VCALENDAR
VERSION:2.0
PRODID:-//BiziCodés - ECPv6.15.20//NONSGML v1.0//EN
CALSCALE:GREGORIAN
METHOD:PUBLISH
X-WR-CALNAME:BiziCodés
X-ORIGINAL-URL:https://bizicodes.com
X-WR-CALDESC:Eventos para BiziCodés
REFRESH-INTERVAL;VALUE=DURATION:PT1H
X-Robots-Tag:noindex
X-PUBLISHED-TTL:PT1H
BEGIN:VTIMEZONE
TZID:UTC
BEGIN:STANDARD
TZOFFSETFROM:+0000
TZOFFSETTO:+0000
TZNAME:UTC
DTSTART:20230101T000000
END:STANDARD
END:VTIMEZONE
BEGIN:VEVENT
DTSTART;VALUE=DATE:20240224
DTEND;VALUE=DATE:20240225
DTSTAMP:20260422T131835
CREATED:20240326T141920Z
LAST-MODIFIED:20240326T141920Z
UID:10000424-1708732800-1708819199@bizicodes.com
SUMMARY:CARNAVAL. CABREDO
DESCRIPTION:En Cabredo\, las festividades de carnaval  se celebran dos fines de semana después de los carnavales tradicionales. Durante este día la gente se disfraza\, y a la noche hay una cena popular\, un evento que reúne a los habitantes y visitantes en un ambiente de festividad. Además de la cena\, se organiza una verbena\, momento perfecto para que la gente se divierta\, baile y disfrute de la música en un ambiente festivo y relajado.
URL:https://bizicodes.com/evento/carnaval-cabredo/2024-02-24/
LOCATION:CABREDO\, CABREDO\, NAVARRA\, 31227\, España
CATEGORIES:Actividad Recreativa
END:VEVENT
BEGIN:VEVENT
DTSTART;VALUE=DATE:20240204
DTEND;VALUE=DATE:20240205
DTSTAMP:20260422T131835
CREATED:20240326T141832Z
LAST-MODIFIED:20240326T141832Z
UID:10000418-1707004800-1707091199@bizicodes.com
SUMMARY:SANTA ÁGUEDA. CABREDO
DESCRIPTION:La víspera de la festividad de la santa\, 5 de febrero\, se acostumbra a salir\, en muchos pueblos\, a realizar rondas corales cantando coplas en honor al martirio y muerte de la santa.\nEsta es una estampa que se repite cada 4 de febrero\, víspera de Santa Águeda. Se recorren las calles cantando en honor a la Santa y se suelen acompañar de bastones y palos con los que se golpea el suelo rítmicamente.\nEste golpeo rítmico al suelo\, y el acto global en sí\, podría tener su origen en una llamada a la Madre Tierra para que termine de despertar tras el solsticio de invierno.\nUna vez terminada la ronda\, se organiza una merienda para todos los/as asistentes.
URL:https://bizicodes.com/evento/santa-agueda-cabredo/2024-02-04/
LOCATION:CABREDO\, CABREDO\, NAVARRA\, 31227\, España
CATEGORIES:Tradiciones
END:VEVENT
BEGIN:VEVENT
DTSTART;VALUE=DATE:20240105
DTEND;VALUE=DATE:20240106
DTSTAMP:20260422T131835
CREATED:20240326T141741Z
LAST-MODIFIED:20240326T141741Z
UID:10000412-1704412800-1704499199@bizicodes.com
SUMMARY:CABALGATA DE REYES. CABREDO
DESCRIPTION:La Cabalgata de Reyes en Cabredo es un evento esperado con mucha ilusión\, especialmente por los niños y niñas del pueblo. La celebración comienza con la llegada de los Reyes Magos\, quienes hacen un recorrido por las calles del pueblo\, creando un ambiente de festividad y alegría.\nAl llegar a la iglesia los Reyes Magos\, acompañados por un séquito de ayudantes\, hacen su entrada solemne y se preparan para el momento más esperado: la entrega de regalos. Los niños y niñas\, con sus rostros iluminados por la emoción\, se acercan para recibir sus regalos de manos de los Reyes Magos.
URL:https://bizicodes.com/evento/cabalgata-de-reyes-cabredo/2024-01-05/
LOCATION:CABREDO\, CABREDO\, NAVARRA\, 31227\, España
CATEGORIES:Actividad Escénica, exhibición o espectáculo,Tradiciones
END:VEVENT
END:VCALENDAR