BEGIN:VCALENDAR
VERSION:2.0
PRODID:-//BiziCodés - ECPv6.15.20//NONSGML v1.0//EN
CALSCALE:GREGORIAN
METHOD:PUBLISH
X-WR-CALNAME:BiziCodés
X-ORIGINAL-URL:https://bizicodes.com
X-WR-CALDESC:Eventos para BiziCodés
REFRESH-INTERVAL;VALUE=DURATION:PT1H
X-Robots-Tag:noindex
X-PUBLISHED-TTL:PT1H
BEGIN:VTIMEZONE
TZID:UTC
BEGIN:STANDARD
TZOFFSETFROM:+0000
TZOFFSETTO:+0000
TZNAME:UTC
DTSTART:20230101T000000
END:STANDARD
END:VTIMEZONE
BEGIN:VEVENT
DTSTART;TZID=UTC:20240518T130000
DTEND;TZID=UTC:20240519T040000
DTSTAMP:20260423T102319
CREATED:20240515T153433Z
LAST-MODIFIED:20240515T153519Z
UID:10000618-1716037200-1716091200@bizicodes.com
SUMMARY:FIESTAS DE LA JUVENTUD DE GENEVILLA
DESCRIPTION:Este 18 de mayo\, se celebran las Fiestas de la Juventud de Genevilla\, un evento imperdible que promete emociones y entretenimiento para todos. El día comenzará con una espectacular exhibición de acrobacias aéreas que seguramente dejará a todos asombrados. Después\, nos reuniremos para disfrutar de un delicioso vermut y compartir en la tradicional comida popular\, donde podrán saborear las delicias locales en un ambiente festivo y acogedor. \nPero eso no es todo\, porque después del banquete\, la fiesta continúa con una tarde llena de música \, juegos entretenidos y competiciones que prometen ser las más divertidas.
URL:https://bizicodes.com/evento/fiestas-de-la-juventud-de-genevilla/
LOCATION:GENEVILLA\, GENEVILLA\, NAVARRA\, 31227\, España
ATTACH;FMTTYPE=image/jpeg:https://bizicodes.com/wp-content/uploads/2024/05/Fiestas-juventud-Genevilla-18-may.jpg
END:VEVENT
END:VCALENDAR