BEGIN:VCALENDAR
VERSION:2.0
PRODID:-//BiziCodés - ECPv6.15.20//NONSGML v1.0//EN
CALSCALE:GREGORIAN
METHOD:PUBLISH
X-ORIGINAL-URL:https://bizicodes.com
X-WR-CALDESC:Eventos para BiziCodés
REFRESH-INTERVAL;VALUE=DURATION:PT1H
X-Robots-Tag:noindex
X-PUBLISHED-TTL:PT1H
BEGIN:VTIMEZONE
TZID:UTC
BEGIN:STANDARD
TZOFFSETFROM:+0000
TZOFFSETTO:+0000
TZNAME:UTC
DTSTART:20230101T000000
END:STANDARD
END:VTIMEZONE
BEGIN:VEVENT
DTSTART;TZID=UTC:20240601T100000
DTEND;TZID=UTC:20240601T170000
DTSTAMP:20260423T090219
CREATED:20240515T163730Z
LAST-MODIFIED:20240515T164813Z
UID:10000620-1717236000-1717261200@bizicodes.com
SUMMARY:JORNADAS DE PUERTAS ABIERTAS. ARAS
DESCRIPTION:El sábado 1ro. de junio\, el municipio de Aras y Tejiendo Caminos en la Sierra de Codés\, tienen el agrado de invitar a posibles interesados en establecerse en esta encantadora localidad a una jornada de puertas abiertas. Este evento\, que dará inicio por la mañana\, está diseñado para aquellas personas que estén considerando la posibilidad de trasladarse y hacer vida en Aras\, ofreciéndoles una oportunidad única para explorar el pueblo. \nDurante la jornada\, se ofrecerá una presentación detallada de los servicios municipales disponibles\, así como de las opciones de vivienda para alquilar o comprar. Los asistentes tendrán la oportunidad de familiarizarse con el estilo de vida local\, lo que será de especial interés para individuos con un espíritu emprendedor que desean integrarse a la dinámica de una comunidad rural. \nEste evento representa una ocasión ideal para quienes buscan un cambio hacia un entorno rural y desean contribuir al crecimiento y desarrollo de Aras y de la Sierra de Codés. \nInvitamos cordialmente a todos los interesados a participar de esta jornada para descubrir todo lo que nuestra zona tiene para ofrecer. \nEs indispensable que las personas interesadas se inscriban rellenado el formulario que podrán encontrar en el código QR que se encuentra en el cartel
URL:https://bizicodes.com/evento/jornadas-de-puertas-abiertas-aras/
LOCATION:ARAS\, Navarra\, 31239\, España
CATEGORIES:Actividad a la que se puede asistir
ATTACH;FMTTYPE=image/jpeg:https://bizicodes.com/wp-content/uploads/2024/05/Jornadas-Ptas-abiertas-ARAS.jpg
END:VEVENT
END:VCALENDAR