BEGIN:VCALENDAR
VERSION:2.0
PRODID:-//BiziCodés - ECPv6.15.20//NONSGML v1.0//EN
CALSCALE:GREGORIAN
METHOD:PUBLISH
X-ORIGINAL-URL:https://bizicodes.com
X-WR-CALDESC:Eventos para BiziCodés
REFRESH-INTERVAL;VALUE=DURATION:PT1H
X-Robots-Tag:noindex
X-PUBLISHED-TTL:PT1H
BEGIN:VTIMEZONE
TZID:UTC
BEGIN:STANDARD
TZOFFSETFROM:+0000
TZOFFSETTO:+0000
TZNAME:UTC
DTSTART:20240101T000000
END:STANDARD
END:VTIMEZONE
BEGIN:VEVENT
DTSTART;TZID=UTC:20251224T190000
DTEND;TZID=UTC:20251224T235900
DTSTAMP:20260420T125122
CREATED:20251017T141809Z
LAST-MODIFIED:20251017T141810Z
UID:10000529-1766602800-1766620740@bizicodes.com
SUMMARY:NOCHE BUENA. SANSOL
DESCRIPTION:Como es habitual\, en el bar de la sociedad de Sansol\, esta noche se celebra un entretenido campeonato de mus. Los lugareños y visitantes se reúnen para disfrutar de este emocionante juego de cartas en un ambiente animado y amigable. El campeonato ofrece la oportunidad perfecta para socializar\, competir y pasar un rato agradable en compañía de amigos y vecinos
URL:https://bizicodes.com/evento/noche-buena-sansol-2/2025-12-24/
LOCATION:SANSOL\, SANSOL\, NAVARRA\, 31220\, España
CATEGORIES:Actividad Deportiva,Actividad Escénica, exhibición o espectáculo,Actividad Recreativa
END:VEVENT
END:VCALENDAR