BEGIN:VCALENDAR
VERSION:2.0
PRODID:-//BiziCodés - ECPv6.15.20//NONSGML v1.0//EN
CALSCALE:GREGORIAN
METHOD:PUBLISH
X-ORIGINAL-URL:https://bizicodes.com
X-WR-CALDESC:Eventos para BiziCodés
REFRESH-INTERVAL;VALUE=DURATION:PT1H
X-Robots-Tag:noindex
X-PUBLISHED-TTL:PT1H
BEGIN:VTIMEZONE
TZID:UTC
BEGIN:STANDARD
TZOFFSETFROM:+0000
TZOFFSETTO:+0000
TZNAME:UTC
DTSTART:20240101T000000
END:STANDARD
END:VTIMEZONE
BEGIN:VEVENT
DTSTART;VALUE=DATE:20250103
DTEND;VALUE=DATE:20250104
DTSTAMP:20260420T112901
CREATED:20240221T204034Z
LAST-MODIFIED:20240221T204034Z
UID:10000053-1735862400-1735948799@bizicodes.com
SUMMARY:CABALGATA DE REYES. BARGOTA
DESCRIPTION:La Cabalgata de Reyes en Bargota es un evento esperado con mucha ilusión\, especialmente por los niños y niñas de la villa. La celebración comienza con la llegada de los Reyes Magos\, quienes hacen un recorrido por las calles del pueblo\, creando un ambiente de festividad y alegría.\nAl llegar a la iglesia los Reyes Magos\, acompañados por un séquito de ayudantes\, hacen su entrada solemne y se preparan para el momento más esperado: la entrega de regalos. Los niños y niñas\, con sus rostros iluminados por la emoción\, se acercan para recibir sus regalos de manos de los Reyes Magos.\n\n\n\n  \nINTINERARIO: \n\nPasacalles\nEntrega de regalos\n\n 
URL:https://bizicodes.com/evento/cabalgata-de-reyes-bargota/2025-01-03/
LOCATION:BARGOTA\, BARGOTA\, NAVARRA\, 31229\, España
CATEGORIES:Actividad Escénica, exhibición o espectáculo,Actividad Recreativa,Ruta / Ronda / Pasacalles / Procesión / Visitas,Tradiciones
END:VEVENT
END:VCALENDAR