BEGIN:VCALENDAR
VERSION:2.0
PRODID:-//BiziCodés - ECPv6.15.20//NONSGML v1.0//EN
CALSCALE:GREGORIAN
METHOD:PUBLISH
X-WR-CALNAME:BiziCodés
X-ORIGINAL-URL:https://bizicodes.com
X-WR-CALDESC:Eventos para BiziCodés
REFRESH-INTERVAL;VALUE=DURATION:PT1H
X-Robots-Tag:noindex
X-PUBLISHED-TTL:PT1H
BEGIN:VTIMEZONE
TZID:UTC
BEGIN:STANDARD
TZOFFSETFROM:+0000
TZOFFSETTO:+0000
TZNAME:UTC
DTSTART:20260101T000000
END:STANDARD
END:VTIMEZONE
BEGIN:VEVENT
DTSTART;VALUE=DATE:20270104
DTEND;VALUE=DATE:20270105
DTSTAMP:20260423T164006
CREATED:20251017T170135Z
LAST-MODIFIED:20260106T142648Z
UID:10001849-1799020800-1799107199@bizicodes.com
SUMMARY:CABALGATA DE REYES. BARGOTA
DESCRIPTION:La Cabalgata de Reyes en Bargota es un evento esperado con mucha ilusión\, especialmente por los niños y niñas de la villa. La celebración comienza con la llegada de los Reyes Magos\, quienes hacen un recorrido por las calles del pueblo\, creando un ambiente de festividad y alegría.\nAl llegar a la iglesia los Reyes Magos\, acompañados por un séquito de ayudantes\, hacen su entrada solemne y se preparan para el momento más esperado: la entrega de regalos. Los niños y niñas\, con sus rostros iluminados por la emoción\, se acercan para recibir sus regalos de manos de los Reyes Magos.\n\n\n\n\n\n\n\n  \nChocolatada a las 18:30 hrs. \nLlegada de los Reyes Magos a las 19:00 hrs
URL:https://bizicodes.com/evento/cabalgata-de-reyes-bargota-2/2027-01-04/
LOCATION:BARGOTA\, BARGOTA\, NAVARRA\, 31229\, España
CATEGORIES:Actividad Escénica, exhibición o espectáculo,Actividad Recreativa,Ruta / Ronda / Pasacalles / Procesión / Visitas,Tradiciones
ATTACH;FMTTYPE=image/jpeg:https://bizicodes.com/wp-content/uploads/2025/10/Reyes-Bargota.jpeg
END:VEVENT
END:VCALENDAR