BEGIN:VCALENDAR
VERSION:2.0
PRODID:-//BiziCodés - ECPv6.15.20//NONSGML v1.0//EN
CALSCALE:GREGORIAN
METHOD:PUBLISH
X-ORIGINAL-URL:https://bizicodes.com
X-WR-CALDESC:Eventos para BiziCodés
REFRESH-INTERVAL;VALUE=DURATION:PT1H
X-Robots-Tag:noindex
X-PUBLISHED-TTL:PT1H
BEGIN:VTIMEZONE
TZID:UTC
BEGIN:STANDARD
TZOFFSETFROM:+0000
TZOFFSETTO:+0000
TZNAME:UTC
DTSTART:20250101T000000
END:STANDARD
END:VTIMEZONE
BEGIN:VEVENT
DTSTART;VALUE=DATE:20261231
DTEND;VALUE=DATE:20270101
DTSTAMP:20260423T135317
CREATED:20240306T093143Z
LAST-MODIFIED:20240306T093143Z
UID:10000200-1798675200-1798761599@bizicodes.com
SUMMARY:Campañadas de fin de año. LA POBLACIÓN - MEANO
DESCRIPTION:San Silvestre. El recorrido de la carrera es por Meano. La salida y la meta están en la plaza de Meano.\nCampanadas.  Se escenifican las campanadas de fin de año pero a las 12 del mediodía.\n Chocolatada.  Se prepara un chocolate calentito para todos los asistentes.
URL:https://bizicodes.com/evento/campanadas-de-fin-de-ano-la-poblacion-meano/2026-12-31/
LOCATION:LA POBLACIÓN-MEANO\, MEANO\, Navarra\, 31227\, España
CATEGORIES:Actividad Deportiva,Actividad Escénica, exhibición o espectáculo,Actividad Recreativa,Degustación,Ruta / Ronda / Pasacalles / Procesión / Visitas
END:VEVENT
END:VCALENDAR