BEGIN:VCALENDAR
VERSION:2.0
PRODID:-//BiziCodés - ECPv6.15.20//NONSGML v1.0//EN
CALSCALE:GREGORIAN
METHOD:PUBLISH
X-ORIGINAL-URL:https://bizicodes.com
X-WR-CALDESC:Eventos para BiziCodés
REFRESH-INTERVAL;VALUE=DURATION:PT1H
X-Robots-Tag:noindex
X-PUBLISHED-TTL:PT1H
BEGIN:VTIMEZONE
TZID:UTC
BEGIN:STANDARD
TZOFFSETFROM:+0000
TZOFFSETTO:+0000
TZNAME:UTC
DTSTART:20250101T000000
END:STANDARD
END:VTIMEZONE
BEGIN:VEVENT
DTSTART;VALUE=DATE:20261208
DTEND;VALUE=DATE:20261209
DTSTAMP:20260423T151649
CREATED:20240320T220916Z
LAST-MODIFIED:20240320T220916Z
UID:10000304-1796688000-1796774399@bizicodes.com
SUMMARY:DÍA DE LA INMACULADA O LA PURÍSIMA. DESOJO
DESCRIPTION:Con el amanecer del día 8\, los auroros de Desojo se reúnen para dar la vuelta al pueblo\, entonando la aurora dedicada a la Inmaculada Concepción. \nSiguiendo la tradición\, recorren las calles\, haciendo paradas estratégicas para permitir que las personas mayores puedan disfrutarlo también. \nPosteriormente\, disfrutan de un reconfortante chocolate y Finalizan la jornada con un ensayo de la misa.
URL:https://bizicodes.com/evento/dia-de-la-inmaculada-o-la-purisima-desojo/2026-12-08/
LOCATION:DESOJO
CATEGORIES:Actividad Religiosa,Ruta / Ronda / Pasacalles / Procesión / Visitas,Tradiciones
END:VEVENT
BEGIN:VEVENT
DTSTART;TZID=UTC:20261224T190000
DTEND;TZID=UTC:20261224T235900
DTSTAMP:20260423T151649
CREATED:20251017T142026Z
LAST-MODIFIED:20251017T170012Z
UID:10001255-1798138800-1798156740@bizicodes.com
SUMMARY:NOCHEBUENA. TORRALBA DEL RÍO
DESCRIPTION:En esta fecha tan especial\, los niños de Torralba del Río salen a recorrer las calles\, llenándolas de alegría y música con sus encantadores villancicos. Es una tradición arraigada en la comunidad\, donde los pequeños\, entonan melodías navideñas llenas de espíritu festivo. \nA medida que avanzan por las calles\, las puertas de las casas se abren para recibir a los niños con cálida hospitalidad. La gente les ofrece dinero o algún pequeño presente como muestra de aprecio por su entusiasmo y dedicación al llevar la alegría navideña a cada hogar.
URL:https://bizicodes.com/evento/nochebuena-torralba-del-rio-2/2026-12-24/
LOCATION:TORRALBA DEL RÍO\, TORRALBA DEL RÍO\, NAVARRA\, 31228\, España
CATEGORIES:Actividad Artística,Actividad Recreativa,Ruta / Ronda / Pasacalles / Procesión / Visitas,Tradiciones
END:VEVENT
BEGIN:VEVENT
DTSTART;VALUE=DATE:20261231
DTEND;VALUE=DATE:20270101
DTSTAMP:20260423T151649
CREATED:20240306T093143Z
LAST-MODIFIED:20240306T093143Z
UID:10000200-1798675200-1798761599@bizicodes.com
SUMMARY:Campañadas de fin de año. LA POBLACIÓN - MEANO
DESCRIPTION:San Silvestre. El recorrido de la carrera es por Meano. La salida y la meta están en la plaza de Meano.\nCampanadas.  Se escenifican las campanadas de fin de año pero a las 12 del mediodía.\n Chocolatada.  Se prepara un chocolate calentito para todos los asistentes.
URL:https://bizicodes.com/evento/campanadas-de-fin-de-ano-la-poblacion-meano/2026-12-31/
LOCATION:LA POBLACIÓN-MEANO\, MEANO\, Navarra\, 31227\, España
CATEGORIES:Actividad Deportiva,Actividad Escénica, exhibición o espectáculo,Actividad Recreativa,Degustación,Ruta / Ronda / Pasacalles / Procesión / Visitas
END:VEVENT
END:VCALENDAR