BEGIN:VCALENDAR
VERSION:2.0
PRODID:-//BiziCodés - ECPv6.15.20//NONSGML v1.0//EN
CALSCALE:GREGORIAN
METHOD:PUBLISH
X-ORIGINAL-URL:https://bizicodes.com
X-WR-CALDESC:Eventos para BiziCodés
REFRESH-INTERVAL;VALUE=DURATION:PT1H
X-Robots-Tag:noindex
X-PUBLISHED-TTL:PT1H
BEGIN:VTIMEZONE
TZID:UTC
BEGIN:STANDARD
TZOFFSETFROM:+0000
TZOFFSETTO:+0000
TZNAME:UTC
DTSTART:20240101T000000
END:STANDARD
END:VTIMEZONE
BEGIN:VEVENT
DTSTART;TZID=UTC:20250824T120000
DTEND;TZID=UTC:20250824T140000
DTSTAMP:20260422T134740
CREATED:20250912T161613Z
LAST-MODIFIED:20250912T161613Z
UID:10001211-1756036800-1756044000@bizicodes.com
SUMMARY:San Bartolomé. Aguilar de Codés. Ermita de San Bartolomé
DESCRIPTION:Este domingo 24\, a las 12:15 hrs\, se celebrará una Misa en honor de Bartolomé en su Ermita. ¿Conoces este tesoro de la Sierra de Codés? \nY a las 12:45 tendremos una interesante charla sobre su historia.
URL:https://bizicodes.com/evento/san-bartolome-aguilar-de-codes-ermita-de-san-bartolome/
LOCATION:Ermita de San Bartolomé
CATEGORIES:Actividad a la que se puede asistir,Actividad cultural,Actividad educativa,Actividad Informativa,Actividad Religiosa,Conferencia
ATTACH;FMTTYPE=image/jpeg:https://bizicodes.com/wp-content/uploads/2025/09/San-Bartolome.jpg
END:VEVENT
END:VCALENDAR