BEGIN:VCALENDAR
VERSION:2.0
PRODID:-//BiziCodés - ECPv6.15.20//NONSGML v1.0//EN
CALSCALE:GREGORIAN
METHOD:PUBLISH
X-WR-CALNAME:BiziCodés
X-ORIGINAL-URL:https://bizicodes.com
X-WR-CALDESC:Eventos para BiziCodés
REFRESH-INTERVAL;VALUE=DURATION:PT1H
X-Robots-Tag:noindex
X-PUBLISHED-TTL:PT1H
BEGIN:VTIMEZONE
TZID:UTC
BEGIN:STANDARD
TZOFFSETFROM:+0000
TZOFFSETTO:+0000
TZNAME:UTC
DTSTART:20240101T000000
END:STANDARD
END:VTIMEZONE
BEGIN:VEVENT
DTSTART;VALUE=DATE:20250815
DTEND;VALUE=DATE:20250816
DTSTAMP:20260420T112103
CREATED:20240321T212531Z
LAST-MODIFIED:20240321T212531Z
UID:10000333-1755216000-1755302399@bizicodes.com
SUMMARY:DÍA DE LA POCHADA. AZUELO
DESCRIPTION:Un día antes de las fiestas grandes. La «pochada» es la comida popular más típica de las fiestas en los pueblos de Navarra\, siendo «el día de la pochada» uno de los eventos más destacados de estas celebraciones. \nUn grupo de socias\, como es costumbre\, se encarga de preparar el menú de la pochada. Este incluye cogollos de Tudela con anchoas y espárragos\, almejas en salsa marinera\, pochas con chorizo de La Matanza acompañadas de guindillas verdes en vinagre\, sorbete de limón\, filetes de ternera a la cazuela\, vino crianza Rioja\, melón\, tarta\, helado\, café y chupitos. \nLa pochada no es solo una comida\, sino una jornada de convivencia alrededor de una mesa que se empieza a preparar desde primera hora de la mañana. Alcanza su punto culminante a las tres de la tarde y se prolonga hasta las siete de la tarde\, en una animada tertulia que incluye partidas de cartas. Al finalizar el día\, cuando llega la hora de las despedidas\, se escucha la frase típica: «¡Hasta el año que viene\, que celebraremos otra vez la pochada!» \nINTINERARIO:\nPreparación\nComida\nTertulia
URL:https://bizicodes.com/evento/dia-de-la-pochada-azuelo/2025-08-15/
LOCATION:AZUELO\, AZUELO\, NAVARRA\, 31228\, España
CATEGORIES:Actividad Recreativa,Comida,Comida popular,Tradiciones
END:VEVENT
END:VCALENDAR