BEGIN:VCALENDAR
VERSION:2.0
PRODID:-//BiziCodés - ECPv6.15.20//NONSGML v1.0//EN
CALSCALE:GREGORIAN
METHOD:PUBLISH
X-WR-CALNAME:BiziCodés
X-ORIGINAL-URL:https://bizicodes.com
X-WR-CALDESC:Eventos para BiziCodés
REFRESH-INTERVAL;VALUE=DURATION:PT1H
X-Robots-Tag:noindex
X-PUBLISHED-TTL:PT1H
BEGIN:VTIMEZONE
TZID:UTC
BEGIN:STANDARD
TZOFFSETFROM:+0000
TZOFFSETTO:+0000
TZNAME:UTC
DTSTART:20240101T000000
END:STANDARD
END:VTIMEZONE
BEGIN:VEVENT
DTSTART;VALUE=DATE:20250727
DTEND;VALUE=DATE:20250728
DTSTAMP:20260420T124528
CREATED:20240325T154416Z
LAST-MODIFIED:20240325T154416Z
UID:10000387-1753574400-1753660799@bizicodes.com
SUMMARY:PINCHAMIZO. ARAS
DESCRIPTION:El último sábado de julio\, Aras cobra vida con una actividad social conocida como «pinchamizo»\, organizada por la Asociación de Jóvenes de Aras (AJA). Este evento único combina el sabor local con la convivencia\, ofreciendo a residentes y visitantes una agradable experiencia.\nEl «pinchamizo» es esencialmente una ruta de pinchos que recorre los diversos chamizos del pueblo. Cada chamizo prepara un pincho especial para el evento.\nLos participantes del «pinchamizo» adquieren tickets\, que sirven como moneda de cambio en este delicioso recorrido. Con cada ticket\, los asistentes tienen derecho a probar un pincho en cada chamizo.\nLa actividad es mucho más que una simple degustación de comida; es una celebración de la comunidad. Los chamizos\, cada uno con su atmósfera única\, se convierten en puntos de encuentro donde se fomenta la convivencia\, el intercambio de historias y la formación de nuevos lazos. La ruta por los chamizos crea un ambiente festivo que llena las calles de Aras de alegría y compañerismo.\nOrganizado por la AJA\, el «pinchamizo» no solo es una oportunidad para que los jóvenes del pueblo muestren su compromiso\, sino que también es un evento que impulsa la participación de toda la comunidad en la celebración.
URL:https://bizicodes.com/evento/pinchamizo-aras/2025-07-27/
LOCATION:ARAS\, Navarra\, 31239\, España
CATEGORIES:Actividad Recreativa,Comida,Tradiciones
END:VEVENT
END:VCALENDAR