BEGIN:VCALENDAR
VERSION:2.0
PRODID:-//BiziCodés - ECPv6.15.20//NONSGML v1.0//EN
CALSCALE:GREGORIAN
METHOD:PUBLISH
X-ORIGINAL-URL:https://bizicodes.com
X-WR-CALDESC:Eventos para BiziCodés
REFRESH-INTERVAL;VALUE=DURATION:PT1H
X-Robots-Tag:noindex
X-PUBLISHED-TTL:PT1H
BEGIN:VTIMEZONE
TZID:UTC
BEGIN:STANDARD
TZOFFSETFROM:+0000
TZOFFSETTO:+0000
TZNAME:UTC
DTSTART:20240101T000000
END:STANDARD
END:VTIMEZONE
BEGIN:VEVENT
DTSTART;VALUE=DATE:20250201
DTEND;VALUE=DATE:20250202
DTSTAMP:20260422T152242
CREATED:20240129T202921Z
LAST-MODIFIED:20240304T225811Z
UID:10000112-1738368000-1738454399@bizicodes.com
SUMMARY:SANTA ÁGUEDA. ESPRONCEDA
DESCRIPTION:En el encantador día de Santa Águeda\, los niños llenan de alegría las calles al visitar las casas con su melodiosa canción y el peculiar pedido de «un choricico\, señora». En respuesta a su entusiasmo\, las generosas familias les obsequian chorizo\, huevos\, caramelos y hasta un gesto de aprecio en forma de dinero\, contribuyendo a la alegre recolección. \nCon el tesoro recopilado\, más tarde se les prepara a los pequeños una merienda especial\, donde se fusionan la tradición y la camaradería. Es un día mágico que fortalece los lazos comunitarios y deja en los corazones de todos un cálido recuerdo. ¡Que viva la tradición de Santa Águeda y la dulce magia de compartir! \nTIMELINE \n\nVisita de los niños a las casas\nPreparación de merienda\nMerienda para los niños
URL:https://bizicodes.com/evento/santa-agueda-espronceda/2025-02-01/
LOCATION:ESPRONCEDA\, ESPRONCEDA\, ESPRONCEDA\, NAVARRA\, 31228\, España
CATEGORIES:Actividad Recreativa,Comida,Tradiciones
ATTACH;FMTTYPE=image/jpeg:https://bizicodes.com/wp-content/uploads/2024/01/fiestasantaageda.jpg
END:VEVENT
END:VCALENDAR