BEGIN:VCALENDAR
VERSION:2.0
PRODID:-//BiziCodés - ECPv6.15.20//NONSGML v1.0//EN
CALSCALE:GREGORIAN
METHOD:PUBLISH
X-WR-CALNAME:BiziCodés
X-ORIGINAL-URL:https://bizicodes.com
X-WR-CALDESC:Eventos para BiziCodés
REFRESH-INTERVAL;VALUE=DURATION:PT1H
X-Robots-Tag:noindex
X-PUBLISHED-TTL:PT1H
BEGIN:VTIMEZONE
TZID:UTC
BEGIN:STANDARD
TZOFFSETFROM:+0000
TZOFFSETTO:+0000
TZNAME:UTC
DTSTART:20240101T000000
END:STANDARD
END:VTIMEZONE
BEGIN:VEVENT
DTSTART;VALUE=DATE:20250504
DTEND;VALUE=DATE:20250505
DTSTAMP:20260420T111627
CREATED:20250603T095832Z
LAST-MODIFIED:20250603T100135Z
UID:10000604-1746316800-1746403199@bizicodes.com
SUMMARY:ROMERÍA AL SANTUARIO DE CODÉS. DESOJO
DESCRIPTION:El primer domingo de mayo\, Desojo celebra su tradicional romería al Santuario de Codés. Los vecinos participan en una procesión hacia el santuario\, donde se celebra una misa especial. Después de la ceremonia\, se organiza un lunch en el frontón para fomentar la convivencia y el compañerismo entre la comunidad. Esta romería fortalece los lazos sociales y espiritualidad entre los habitantes de Desojo.
URL:https://bizicodes.com/evento/romeria-al-santuario-de-codes-desojo-2/2025-05-04/
LOCATION:DESOJO
CATEGORIES:Actividad Recreativa,Actividad Religiosa,Comida,Ruta / Ronda / Pasacalles / Procesión / Visitas,Tradiciones
END:VEVENT
BEGIN:VEVENT
DTSTART;VALUE=DATE:20250515
DTEND;VALUE=DATE:20250516
DTSTAMP:20260420T111627
CREATED:20240325T153936Z
LAST-MODIFIED:20240325T153936Z
UID:10000372-1747267200-1747353599@bizicodes.com
SUMMARY:FIESTAS DE MAYO SAN ISIDRO LABRADOR. ARAS
DESCRIPTION:El 15 de mayo se celebran las fiestas de San  Isidro Labrador\, el patrón de los agricultores.\nLa celebración comienza con una romería a la ermita de San Isidro\, donde la comunidad se reúne en un ambiente de festividad y respeto. Este acto simboliza no solo un peregrinaje físico\, sino también un viaje espiritual\, llevando a los fieles hacia un lugar de significado histórico y religioso.\nEn la ermita\, se celebra una misa en honor a San Isidro y tras la misa\, el ayuntamiento ofrece un aperitivo a los asistentes. Este gesto de hospitalidad fortalece el sentido de comunidad y proporciona un espacio para la convivencia y el compartir entre los vecinos.\nAdemás\, dependiendo de cómo caiga el 15 de mayo\, se forman cuadrillas que se reúnen para compartir una comida. Las cuadrillas\, formadas por amigos\, familiares o vecinos\, disfrutan de una jornada de convivencia y festividad\, reflejando la importancia de la comunidad en estas celebraciones.\nINTINERARIO:\nROMERIA\nMISA\nCOMIDA
URL:https://bizicodes.com/evento/fiestas-de-mayo-san-isidro-labrador-aras/2025-05-15/
LOCATION:ARAS\, Navarra\, 31239\, España
CATEGORIES:Actividad Religiosa,Comida,Degustación,Tradiciones
END:VEVENT
BEGIN:VEVENT
DTSTART;VALUE=DATE:20250517
DTEND;VALUE=DATE:20250518
DTSTAMP:20260420T111627
CREATED:20240129T205847Z
LAST-MODIFIED:20240504T061059Z
UID:10000610-1747440000-1747526399@bizicodes.com
SUMMARY:SAN ISIDRO LABRADOR. ESPRONCEDA
DESCRIPTION:El sábado más cercano a la festividad de San Isidro Labrador\, Espronceda se viste de celebración en honor al patrono de los agricultores. La jornada comienza con una misa\, seguida de una procesión que destaca la devoción a la Virgen del Campo\, patrona de la localidad. \nPara los más pequeños\, se organizan juegos que añaden alegría y diversión a la festividad\, creando un ambiente familiar y acogedor. Posteriormente\, la tarde se llena de sabores y encuentros con la realización de una comida popular. La comunidad se reúne para compartir platos tradicionales\, y posteriormente la música acompaña la tarde\, estrechando lazos y celebrando la riqueza de la cultura local en este día tan especial. \nTIMELINE \n\n13:00 hrs. Misa y Procesión con el Coro de Espronceda\n15:00 hrs. Comida Popular\n17:00 hrs. Música con karaoke\n\nAgradecimiento especial a MOKA Artesanos -Cafetería Confitería- por su Colaboración.
URL:https://bizicodes.com/evento/san-isidro-labrador-espronceda/2025-05-17/
LOCATION:ESPRONCEDA\, ESPRONCEDA\, ESPRONCEDA\, NAVARRA\, 31228\, España
CATEGORIES:Actividad Recreativa,Actividad Religiosa,Comida
ATTACH;FMTTYPE=image/jpeg:https://bizicodes.com/wp-content/uploads/2024/01/SAN-ISIDRO-LABRADOR.-ESPRONCEDA.jpg
END:VEVENT
BEGIN:VEVENT
DTSTART;VALUE=DATE:20250525
DTEND;VALUE=DATE:20250526
DTSTAMP:20260420T111627
CREATED:20240610T133145Z
LAST-MODIFIED:20250603T110130Z
UID:10000839-1748131200-1748217599@bizicodes.com
SUMMARY:ROMERIA AL SANTUARIO DE CODÉS. ARAS
DESCRIPTION:Cada año\, con la llegada del mes de junio\, se celebra la tradicional Romería al Santuario de Codés\, un evento que marca un momento especial en el calendario de primavera. Esta romería\, cuya fecha depende de cuándo caiga la Semana Santa\, es una manifestación de fe y comunidad.\nLos vecinos de Aras\, participan activamente en esta tradición. Ellos se acercan al Santuario de Codés\, ya sea caminando\, en una expresión de peregrinaje y devoción\, o en coche\, facilitando así la participación de todos\, independientemente de su capacidad física. Este acto de peregrinar juntos simboliza la unidad y el espíritu comunitario que envuelve la romería.\nEn el santuario\, se celebra una misa que es amenizada por la Rondalla Tres Aras\, aportando un toque musical y festivo a la ceremonia. La música de la rondalla no solo enriquece la misa\, sino que también crea un ambiente de alegría y celebración\, reflejando el carácter gozoso de la romería. \nTras la misa\, se realiza una comida por cuadrillas. Cada cuadrilla lleva su propia comida\, compartiendo así un momento de convivencia y festividad. Esta comida comunitaria es un momento clave de la romería\, donde se fortalecen los lazos sociales y se disfruta de la compañía mutua en un entorno natural incomparable.\nITINERARIO:\nROMERIA\nMISA\nCOMIDA POR CUADRILLAS
URL:https://bizicodes.com/evento/romeria-al-santuario-de-codes-aras-2/
LOCATION:ARAS\, Navarra\, 31239\, España
CATEGORIES:Actividad Artística,Actividad Religiosa,Comida,Tradiciones
ATTACH;FMTTYPE=image/jpeg:https://bizicodes.com/wp-content/uploads/2024/01/CODES-2-WEB.jpg
END:VEVENT
BEGIN:VEVENT
DTSTART;VALUE=DATE:20250531
DTEND;VALUE=DATE:20250601
DTSTAMP:20260420T111627
CREATED:20240321T212224Z
LAST-MODIFIED:20250603T104351Z
UID:10000863-1748649600-1748735999@bizicodes.com
SUMMARY:RUTA DE LOS LAVADEROS. AZUELO
DESCRIPTION:LA ASOCIACIÓN C.R. SANTA ENGRACIA\, junto con las asociaciones de pueblos vecinos como Katxupin de Espronceda\, Nuestra Sra. de Collantes de Aguilar de Codés\, Peñablanca de Torralba del Río y el Grupo de Senderismo de Bargota\, organizan un recorrido de 15 km por la sierra de Codés. Este recorrido ofrece muchas facilidades para los participantes\, ya que incluye diversas paradas para descansar\, tomar agua\, comer algo\, etc. Durante el recorrido\, los participantes tienen la oportunidad de descubrir rincones muy interesantes de la sierra de Codés\, lo que lo convierte en una actividad muy apreciada por aquellos que disfrutan del senderismo\, la convivencia y la cultura local. \n  \nInformación proporcionada por Asociación Santa Engracia: \nEl día 31 de mayo de 2025 tendrá lugar la actividad de senderismo “XVI MARCHA RUTA DE LOS LAVADEROS” organizada por nuestra Asociación Santa Engracia conjuntamente con las asociaciones\, Grupo de Senderismo de Bargota\, Asociación Katxupin Espronceda\, Asociación Los Cigüeños de El Busto\, Asociación Peña Blanca de Torralba del Río y Asociación Ntra Sra de Collantes de Aguilar de Codés. \nUn año más los aficionados de estas localidades al running\, al senderismo o simplemente a pasear van a tener ocasión de disfrutar del paisaje de nuestro entorno en una época cuando los campos de nuestros pueblos están más hermosos de todo el año. \nEsta actividad hace que los habitantes de nuestros pueblos\, cada vez menos\, tengan una grata jornada de convivencia entre ellos a la vez que visitan sus pueblos haciendo el recorrido de lavadero en lavadero\, recordando la vida de antaño. La actividad está abierta a todo el que desee participar venga de donde venga\, aquí nadie se sentirá forastero\, todo lo contrario\, se sentirá como en su casa y disfrutará de un ambiente jovial y una grata convivencia. Así que ya sabes\, si quieres participar\, anímate e inscríbete a tiempo. \nEl recorrido será circular con salida y llegada en Azuelo. El almuerzo tendrá lugar en Bargota\, el avituallamiento en Espronceda y la comida en Azuelo. \nLos participantes podrán salir del pueblo que deseen y realizar el recorrido completo o el tramo que prefieran\, no tienen un tiempo limitado para hacer el recorrido\, con tal de que lleguen al almuerzo y a la comida es suficiente. Se contará con el apoyo de vehículos todoterreno para quienes requieran sus servicios a lo largo del recorrido \nSi este día no puedes ir a la marcha y quieres asistir a la comida o al almuerzo\, te puedes inscribir igualmente\, pasarás un día agradable. La inscripción la puedes hacer en las asociaciones organizadoras y en el teléfono 647 988 706. \nPROGRAMA:\n09´00 h. Salida Azuelo\n10´30 h. Bargota (Almuerzo)\n12´00 h. Espronceda (Avituallamiento)\n13´00 h. Torralba del Río\n14´00 h. Llegada Azuelo\n14´30 h. Azuelo (Comida) \nNOTAS\n1.- Inscripción en las Asociaciones organizadoras.\n2.- Importe inscripción: almuerzo y avituallamiento (5´00€)\, comida (20´00€).\n3.- Plazo inscripción hasta el 25 de mayo.\n4.- Habrá vehículos todoterreno de apoyo.\n5.- Cada senderista podrá iniciar la marcha en la localidad que desee y andar el tramo del itinerario que él decida
URL:https://bizicodes.com/evento/ruta-de-los-lavaderos-azuelo/
LOCATION:AZUELO\, AZUELO\, NAVARRA\, 31228\, España
CATEGORIES:Actividad a la que se puede asistir,Actividad Deportiva,Actividad Recreativa,Actividad Tiempo Libre,Comida,Ruta / Ronda / Pasacalles / Procesión / Visitas
ATTACH;FMTTYPE=image/jpeg:https://bizicodes.com/wp-content/uploads/2024/03/LAVADEROS-25-1.jpg
END:VEVENT
END:VCALENDAR