BEGIN:VCALENDAR
VERSION:2.0
PRODID:-//BiziCodés - ECPv6.15.20//NONSGML v1.0//EN
CALSCALE:GREGORIAN
METHOD:PUBLISH
X-WR-CALNAME:BiziCodés
X-ORIGINAL-URL:https://bizicodes.com
X-WR-CALDESC:Eventos para BiziCodés
REFRESH-INTERVAL;VALUE=DURATION:PT1H
X-Robots-Tag:noindex
X-PUBLISHED-TTL:PT1H
BEGIN:VTIMEZONE
TZID:UTC
BEGIN:STANDARD
TZOFFSETFROM:+0000
TZOFFSETTO:+0000
TZNAME:UTC
DTSTART:20240101T000000
END:STANDARD
END:VTIMEZONE
BEGIN:VEVENT
DTSTART;VALUE=DATE:20250418
DTEND;VALUE=DATE:20250419
DTSTAMP:20260420T124349
CREATED:20250603T093101Z
LAST-MODIFIED:20250603T093246Z
UID:10000801-1744934400-1745020799@bizicodes.com
SUMMARY:PROCESIÓN DE VIERNES SANTO. ARMANZAÑAS
DESCRIPTION:Desde 1582\, año en que se establecieron las ordenanzas que regulan las festividades\, la Semana Santa se convierte en una experiencia fascinante para aquellos que exploran este pintoresco pueblo. Cada año\, los lugareños llevan a cabo una procesión tradicional que atrae la atención de la comunidad local y visitantes por igual. \nEl ritual comienza con la reunión de los participantes en las antiguas escuelas\, donde se visten con las túnicas características de la ocasión. Este momento ofrece una visión única de la vestimenta y las costumbres de antaño. \nUna vez preparados\, el grupo avanza en silencio hacia la iglesia\, donde se ofrece la oportunidad de participar como voluntario en el desfile de las imágenes religiosas\, brindando una perspectiva práctica de la devoción local. \nAl concluir la procesión\, se abre la oportunidad para que los asistentes se sumerjan en la cultura local al unirse a los lugareños en una merienda comunitaria en las mismas antiguas escuelas. Aquí\, se puede degustar la gastronomía tradicional mientras se comparten historias y se experimenta el sentido de comunidad que caracteriza a este pueblo.
URL:https://bizicodes.com/evento/cofradia-de-la-santa-vera-cruz-armanzanas-2/
LOCATION:ARMANZAÑAS\, Armañanzas\, 31228\, España
CATEGORIES:Actividad a la que se puede asistir,Actividad Religiosa,Comida,Tradiciones
ATTACH;FMTTYPE=image/jpeg:https://bizicodes.com/wp-content/uploads/2024/03/0df8f74d-517d-4938-9dd6-f06cd9a926f6_9-16-aspect-ratio_default_0.jpg
END:VEVENT
END:VCALENDAR