BEGIN:VCALENDAR
VERSION:2.0
PRODID:-//BiziCodés - ECPv6.15.20//NONSGML v1.0//EN
CALSCALE:GREGORIAN
METHOD:PUBLISH
X-ORIGINAL-URL:https://bizicodes.com
X-WR-CALDESC:Eventos para BiziCodés
REFRESH-INTERVAL;VALUE=DURATION:PT1H
X-Robots-Tag:noindex
X-PUBLISHED-TTL:PT1H
BEGIN:VTIMEZONE
TZID:UTC
BEGIN:STANDARD
TZOFFSETFROM:+0000
TZOFFSETTO:+0000
TZNAME:UTC
DTSTART:20240101T000000
END:STANDARD
END:VTIMEZONE
BEGIN:VEVENT
DTSTART;VALUE=DATE:20250308
DTEND;VALUE=DATE:20250309
DTSTAMP:20260420T140912
CREATED:20240305T220045Z
LAST-MODIFIED:20240305T220045Z
UID:10000131-1741392000-1741478399@bizicodes.com
SUMMARY:Día de la Mujer. TORRALBA DEL RÍO
DESCRIPTION:En Torralba del Río\, la Asociación de Mujeres\, como parte integral de la Asociación Peñablanca\, celebra de manera especial este día. En el sábado más cercano a la festividad\, se organizan eventos artísticos o culturales que resaltan el papel y la contribución de las mujeres en la comunidad. Durante este día\, se lleva a cabo una comida popular donde se fomenta el compañerismo y la camaradería entre las mujeres del pueblo. Además\, como gesto de reconocimiento y aprecio\, se entrega a la mujer de mayor edad del pueblo una planta como símbolo de admiración y gratitud por su sabiduría y experiencia. Esta celebración es un homenaje a la fortaleza\, la dedicación y el papel fundamental que desempeñan las mujeres en la comunidad de Torralba del Río. Es un momento para celebrar su contribución y para fortalecer los lazos de solidaridad y apoyo entre todas las generaciones de mujeres del pueblo.
URL:https://bizicodes.com/evento/dia-de-la-mujer-torralba-del-rio/2025-03-08/
LOCATION:TORRALBA DEL RÍO\, TORRALBA DEL RÍO\, NAVARRA\, 31228\, España
CATEGORIES:Actividad Artística,Actividad Escénica, exhibición o espectáculo,Ceremonia,Comida
END:VEVENT
END:VCALENDAR