BEGIN:VCALENDAR
VERSION:2.0
PRODID:-//BiziCodés - ECPv6.15.20//NONSGML v1.0//EN
CALSCALE:GREGORIAN
METHOD:PUBLISH
X-ORIGINAL-URL:https://bizicodes.com
X-WR-CALDESC:Eventos para BiziCodés
REFRESH-INTERVAL;VALUE=DURATION:PT1H
X-Robots-Tag:noindex
X-PUBLISHED-TTL:PT1H
BEGIN:VTIMEZONE
TZID:UTC
BEGIN:STANDARD
TZOFFSETFROM:+0000
TZOFFSETTO:+0000
TZNAME:UTC
DTSTART:20240101T000000
END:STANDARD
END:VTIMEZONE
BEGIN:VEVENT
DTSTART;VALUE=DATE:20250201
DTEND;VALUE=DATE:20250202
DTSTAMP:20260422T101640
CREATED:20240129T202921Z
LAST-MODIFIED:20240304T225811Z
UID:10000112-1738368000-1738454399@bizicodes.com
SUMMARY:SANTA ÁGUEDA. ESPRONCEDA
DESCRIPTION:En el encantador día de Santa Águeda\, los niños llenan de alegría las calles al visitar las casas con su melodiosa canción y el peculiar pedido de «un choricico\, señora». En respuesta a su entusiasmo\, las generosas familias les obsequian chorizo\, huevos\, caramelos y hasta un gesto de aprecio en forma de dinero\, contribuyendo a la alegre recolección. \nCon el tesoro recopilado\, más tarde se les prepara a los pequeños una merienda especial\, donde se fusionan la tradición y la camaradería. Es un día mágico que fortalece los lazos comunitarios y deja en los corazones de todos un cálido recuerdo. ¡Que viva la tradición de Santa Águeda y la dulce magia de compartir! \nTIMELINE \n\nVisita de los niños a las casas\nPreparación de merienda\nMerienda para los niños
URL:https://bizicodes.com/evento/santa-agueda-espronceda/2025-02-01/
LOCATION:ESPRONCEDA\, ESPRONCEDA\, ESPRONCEDA\, NAVARRA\, 31228\, España
CATEGORIES:Actividad Recreativa,Comida,Tradiciones
ATTACH;FMTTYPE=image/jpeg:https://bizicodes.com/wp-content/uploads/2024/01/fiestasantaageda.jpg
END:VEVENT
BEGIN:VEVENT
DTSTART;VALUE=DATE:20250203
DTEND;VALUE=DATE:20250204
DTSTAMP:20260422T101641
CREATED:20240305T215331Z
LAST-MODIFIED:20240305T215331Z
UID:10000125-1738540800-1738627199@bizicodes.com
SUMMARY:Santa Agueda. TORRALBA DEL RÍO
DESCRIPTION:La celebración de Santa Águeda es un evento especial en Torralba del Río\, promovido por los jóvenes del pueblo y disfrutado durante todo el día. Comienza con un animado almuerzo acompañado de música festiva de una txaranga. Los jóvenes y niños lucen trajes caseros\, pero en Torralba\, tienen una vestimenta especial: las mujeres visten unas particulares faldas rojas\, una tradición única del lugar que atrae la atención de los visitantes. La procesión avanza por las calles mientras los participantes cantan la tradicional canción «Santa Águeda\, buena moza…»\, visitando las casas del pueblo. \nLos vecinos generosamente ofrecen chorizo\, huevos\, bebidas y otros obsequios\, que más tarde se utilizan para preparar una gran merienda comunitaria. Un detalle distintivo de Torralba es la preparación de un delicioso «tronco de moca» con una receta propia del pueblo\, que es disfrutado por todos los asistentes. La festividad continúa con música y la participación de un DJ\, creando un ambiente de alegría y unión. En medio de la fiesta\, los habitantes de Torralba del Río se reúnen para compartir momentos memorables y celebrar su tradición de manera única y especial. \n  \nINTINERARIO \nAlmuerzo \nTxaranga \nPasacalles \nVisita a las casas \nMerienda \nMúsica
URL:https://bizicodes.com/evento/santa-agueda-torralba-del-rio/2025-02-03/
LOCATION:TORRALBA DEL RÍO\, TORRALBA DEL RÍO\, NAVARRA\, 31228\, España
CATEGORIES:Actividad Religiosa,Comida,Ruta / Ronda / Pasacalles / Procesión / Visitas,Tradiciones
END:VEVENT
BEGIN:VEVENT
DTSTART;VALUE=DATE:20250204
DTEND;VALUE=DATE:20250205
DTSTAMP:20260422T101641
CREATED:20240221T204333Z
LAST-MODIFIED:20240221T204333Z
UID:10000059-1738627200-1738713599@bizicodes.com
SUMMARY:SANTA ÁGUEDA. BARGOTA
DESCRIPTION:La víspera de la festividad de la santa\, 5 de febrero\, se acostumbra a salir\, en muchos pueblos\, a realizar rondas corales cantando coplas en honor al martirio y muerte de la santa.\nEsta es una tradición que se repite cada 4 de febrero\, víspera de Santa Águeda. Se recorren las calles cantando coplas y se suelen acompañar de bastones y palos con los que se golpea el suelo rítmicamente.\nEste golpeo rítmico al suelo\, y el acto global en sí\, podría tener su origen en una llamada a la Madre Tierra para que termine de despertar tras el solsticio de invierno.\nEn Bargota\, antes de salir\, se reúnen y se les ofrece un delicioso caldo mientras se preparan para la ronda. Algunas personas preparan pintxos que se degustarán el las paradas del pasacalles. Otras\, llevarán sus viandas a uno de los bares del pueblo para acabar así la fiesta. Otro detalle interesante\, es que aquí\, los cantos se realizan en Euskera.\n\n\n\n\n\n\n\nINTINERARIO:\n\n\n\n\n\n\n\n\nSe realiza un pasacalles por el pueblo haciendo paradas en sitios estratégicos donde se cantan las canciones tradicionales.\n\n\n\n\n\nDegustación de invierno\nEn cada parada se ha preparado de antemano un pintxo para que los participantes lo degusten con un vaso de vino.\nEn la última parada\, el bar Pichi\, los vecinos y vecinas aportan otras viandas lo que se convierte en una degustación de gran afluencia.
URL:https://bizicodes.com/evento/santa-agueda-bargota/2025-02-04/
LOCATION:BARGOTA\, BARGOTA\, NAVARRA\, 31229\, España
CATEGORIES:Comida,Ruta / Ronda / Pasacalles / Procesión / Visitas,Tradiciones
END:VEVENT
END:VCALENDAR