BEGIN:VCALENDAR
VERSION:2.0
PRODID:-//BiziCodés - ECPv6.15.20//NONSGML v1.0//EN
CALSCALE:GREGORIAN
METHOD:PUBLISH
X-ORIGINAL-URL:https://bizicodes.com
X-WR-CALDESC:Eventos para BiziCodés
REFRESH-INTERVAL;VALUE=DURATION:PT1H
X-Robots-Tag:noindex
X-PUBLISHED-TTL:PT1H
BEGIN:VTIMEZONE
TZID:UTC
BEGIN:STANDARD
TZOFFSETFROM:+0000
TZOFFSETTO:+0000
TZNAME:UTC
DTSTART:20240101T000000
END:STANDARD
END:VTIMEZONE
BEGIN:VEVENT
DTSTART;TZID=UTC:20250609T130000
DTEND;TZID=UTC:20250609T233000
DTSTAMP:20260423T095657
CREATED:20250603T120854Z
LAST-MODIFIED:20250603T120902Z
UID:10001063-1749474000-1749511800@bizicodes.com
SUMMARY:FIESTAS PEQUEÑAS. SANSOL.
DESCRIPTION:Misa \nProcesión \nComida popular
URL:https://bizicodes.com/evento/fiestas-pequenas-sansol/
LOCATION:SANSOL\, SANSOL\, NAVARRA\, 31220\, España
CATEGORIES:Actividad a la que se puede asistir,Actividad Recreativa,Actividad Religiosa,Comida popular,Procesión,Tradiciones
END:VEVENT
END:VCALENDAR