BEGIN:VCALENDAR
VERSION:2.0
PRODID:-//BiziCodés - ECPv6.15.20//NONSGML v1.0//EN
CALSCALE:GREGORIAN
METHOD:PUBLISH
X-WR-CALNAME:BiziCodés
X-ORIGINAL-URL:https://bizicodes.com
X-WR-CALDESC:Eventos para BiziCodés
REFRESH-INTERVAL;VALUE=DURATION:PT1H
X-Robots-Tag:noindex
X-PUBLISHED-TTL:PT1H
BEGIN:VTIMEZONE
TZID:UTC
BEGIN:STANDARD
TZOFFSETFROM:+0000
TZOFFSETTO:+0000
TZNAME:UTC
DTSTART:20240101T000000
END:STANDARD
END:VTIMEZONE
BEGIN:VEVENT
DTSTART;VALUE=DATE:20250505
DTEND;VALUE=DATE:20250506
DTSTAMP:20260423T095459
CREATED:20240416T101029Z
LAST-MODIFIED:20240504T054103Z
UID:10000534-1746403200-1746489599@bizicodes.com
SUMMARY:VIRGEN DE NIEVA. EL BUSTO
DESCRIPTION:El primer domingo de mayo es una fecha muy especial en El Busto\, ya que se celebran las fiestas en honor de la Virgen de Nieva\, patrona del pueblo. La jornada festiva comienza con una emotiva misa-concierto\, donde la música y la espiritualidad se unen para rendir homenaje a la virgen. \nTras la ceremonia religiosa\, tiene lugar la tradicional procesión por las calles del pueblo. La imagen de la Virgen de Nieva\, cuidadosamente adornada\, es llevada en solemne procesión mientras los vecinos la acompañan con cánticos y oraciones. \nPara culminar la celebración\, el ayuntamiento ofrece un aperitivo popular\, donde todos los asistentes tienen la oportunidad de compartir un momento de convivencia y camaradería
URL:https://bizicodes.com/evento/virgen-de-la-nieva-el-busto/2025-05-05/
LOCATION:EL BUSTO\, EL BUSTO\, NAVARRA\, 31229\, España
CATEGORIES:Actividad Escénica, exhibición o espectáculo,Actividad Religiosa,Comida popular
END:VEVENT
BEGIN:VEVENT
DTSTART;VALUE=DATE:20250515
DTEND;VALUE=DATE:20250516
DTSTAMP:20260423T095459
CREATED:20240305T220652Z
LAST-MODIFIED:20240305T220652Z
UID:10000146-1747267200-1747353599@bizicodes.com
SUMMARY:San Isidro. TORRALBA DEL RÍO
DESCRIPTION:El 15 de mayo\, en honor a San Isidro\, el patrón de los labradores\, Torralba del Río se viste de fiesta. La jornada comienza con una emotiva misa matutina en la que la comunidad se reúne para rendir homenaje al santo y pedir por las bendiciones sobre las cosechas venideras. \nDespués de la misa\, tiene lugar una solemne procesión en la que los vecinos acompañan la imagen de San Isidro por los campos de Torralba\, bendiciendo la tierra y las labores agrícolas. \nA medida que la procesión avanza\, la alegría y la camaradería llenan el ambiente\, creando un espíritu festivo y acogedor. Una vez finalizada la procesión\, la comunidad se reúne para compartir un lunch o una comida popular\, donde se disfrutan platos tradicionales y se comparten historias y risas en un ambiente de celebración. \nINTINERARIO \nMisa \nProcesión \nComida popular o lunch
URL:https://bizicodes.com/evento/san-isidro-torralba-del-rio/2025-05-15/
LOCATION:TORRALBA DEL RÍO\, TORRALBA DEL RÍO\, NAVARRA\, 31228\, España
CATEGORIES:Actividad Religiosa,Comida popular,Ruta / Ronda / Pasacalles / Procesión / Visitas,Tradiciones
END:VEVENT
BEGIN:VEVENT
DTSTART;VALUE=DATE:20250515
DTEND;VALUE=DATE:20250516
DTSTAMP:20260423T095459
CREATED:20240307T090605Z
LAST-MODIFIED:20240307T090605Z
UID:10000224-1747267200-1747353599@bizicodes.com
SUMMARY:San Isidro. ARMANZAÑAS
DESCRIPTION:El día de San Isidro se celebra el 15 de mayo. Después de la misa\, en la que se lleva al Santo en procesión y se bendicen los campos\, tiene lugar una comida popular donde la comunidad se reúne para disfrutar de un momento de convivencia y celebración.
URL:https://bizicodes.com/evento/san-isidro-armanzanas/2025-05-15/
LOCATION:ARMANZAÑAS\, Armañanzas\, 31228\, España
CATEGORIES:Actividad Religiosa,Ceremonia,Comida popular,Tradiciones
END:VEVENT
END:VCALENDAR