BEGIN:VCALENDAR
VERSION:2.0
PRODID:-//BiziCodés - ECPv6.15.20//NONSGML v1.0//EN
CALSCALE:GREGORIAN
METHOD:PUBLISH
X-ORIGINAL-URL:https://bizicodes.com
X-WR-CALDESC:Eventos para BiziCodés
REFRESH-INTERVAL;VALUE=DURATION:PT1H
X-Robots-Tag:noindex
X-PUBLISHED-TTL:PT1H
BEGIN:VTIMEZONE
TZID:UTC
BEGIN:STANDARD
TZOFFSETFROM:+0000
TZOFFSETTO:+0000
TZNAME:UTC
DTSTART:20230101T000000
END:STANDARD
END:VTIMEZONE
BEGIN:VEVENT
DTSTART;VALUE=DATE:20240613
DTEND;VALUE=DATE:20240617
DTSTAMP:20260421T083308
CREATED:20240610T121851Z
LAST-MODIFIED:20240610T121911Z
UID:10000651-1718236800-1718582399@bizicodes.com
SUMMARY:FIESTAS DE SAN ATONIO. LA POBLACIÓN - MEANO
DESCRIPTION:Desde el jueves hasta el domingo se vive en Meano\, un fin de semana largo lleno de actividades\, tradiciones\, gastronomía \, diversión y música. \nEl Concejo de Meano\, en colaboración con la Asociación Cultural «La Globa de Meano»\, organizan. \nPuedes consultar todas las actividades en el Cartel.
URL:https://bizicodes.com/evento/san-antonio-la-poblacion-meano-2-2/
LOCATION:LA POBLACIÓN-MEANO\, MEANO\, Navarra\, 31227\, España
CATEGORIES:Actividad a la que se puede asistir,Actividad Artística,Actividad Escénica, exhibición o espectáculo,Actividad infantil,Actividad Recreativa,Actividad Religiosa,Ceremonia,Comida,Comida popular,Degustación,Ruta / Ronda / Pasacalles / Procesión / Visitas,Tradiciones
ATTACH;FMTTYPE=image/jpeg:https://bizicodes.com/wp-content/uploads/2024/03/San-Antonio-Meano-e1718021782804.jpg
END:VEVENT
BEGIN:VEVENT
DTSTART;TZID=UTC:20240614T093000
DTEND;TZID=UTC:20240614T120000
DTSTAMP:20260421T083308
CREATED:20240610T102218Z
LAST-MODIFIED:20240614T172456Z
UID:10000645-1718357400-1718366400@bizicodes.com
SUMMARY:INAUGURACIÓN DE LA DEPURADORA DE ESPRONCEDA. ESPRONCEDA
DESCRIPTION:09:30 Acto institucional \n10:00 Recorrido guiado por la depuradora \n10:30 Aperitivo en las piscinas
URL:https://bizicodes.com/evento/inauguracion-de-la-depuradora-de-espronceda-espronceda/
LOCATION:ESPRONCEDA\, ESPRONCEDA\, ESPRONCEDA\, NAVARRA\, 31228\, España
CATEGORIES:Ceremonia
ATTACH;FMTTYPE=image/jpeg:https://bizicodes.com/wp-content/uploads/2024/06/DEPURADORA-ESPRONCEDA-e1718025357125.jpg
END:VEVENT
BEGIN:VEVENT
DTSTART;VALUE=DATE:20240620
DTEND;VALUE=DATE:20240624
DTSTAMP:20260421T083308
CREATED:20240610T150640Z
LAST-MODIFIED:20240611T114644Z
UID:10000150-1718841600-1719187199@bizicodes.com
SUMMARY:Fiestas Patronales / FIESTAS DE SAN JUAN. TORRALBA DEL RÍO
DESCRIPTION:Durante cuatro días llenos de color y emoción\, esta encantadora localidad navarra celebra sus fiestas patronales en honor a San Juan\, comenzando el jueves más cercano a la Noche de San Juan que es el 24 de junio. \nOrganizan: \nAYUNTAMIENTO DE TORRALBA DEL RÍO en colaboración con la COFRADÍA DE SAN JUAN \nEl ambiente festivo comienza el jueves con el Txupinazo \, juegos y disfraces por la tarde del jueves\, música y una deliciosa txistorrada. Pero la diversión no se detiene ahí: el fin de semana trae consigo una serie de eventos tradicionales y emocionantes. \nEl viernes: vermut\, animales de la ganadería Estenaga\, el popular toro de fuego y una cena con sidrería. Pero éste día además estarán Los Tenampas a las 20:00 horas y por la noche DJ Txemi Navarro. \nEl sábado\, el pueblo despierta al sonido de los auroros\, dando inicio a un día de celebración y devoción. La misa y la procesión son momentos de profunda conexión espiritual\, donde la comunidad se une para honrar a sus patrones con fervor y alegría. Los gaiteros con la ronda de cofrades. \nPor la tarde\, a las 6:00 PM\, la Cofradía de San Juan presenta una escena sumamente atractiva: la representación de la captura de Juan Lobo. Esta tradición\, recuperada en 1981\, es una parte importante del patrimonio cultural de Torralba del Río\, remontándose al siglo XVIII y respaldada por una bula papal del año 1726. La cofradía\, una de las más antiguas de Navarra\, sigue la tradición de la Hermandad de Ballesteros\, fundada en 1375 con el propósito de proteger al pueblo y mantener su fe cristiana. Al finalizar podremos disfrutar del «Baile de la Balsa» con los dantzaris de Torralba del río\, danza que cuenta parte de la historia de este municipio\, seguida por la Orquesta Dolche para continuar con más música y celebración. \nFinalmente\, el domingo culmina juegos para los más pequeños\, una misa especial\, el vermut que no puede faltar y un divertidísimo Campeonato de Txapas\, seguido de la música de la orquesta Epsilon y cerrando con broche de oro estas fiestas: la tradicional hoguera de San Juan.
URL:https://bizicodes.com/evento/fiestas-patronales-de-san-juan-torralba-del-rio-2-2-2-2/2024-06-20/
LOCATION:TORRALBA DEL RÍO\, TORRALBA DEL RÍO\, NAVARRA\, 31228\, España
CATEGORIES:Actividad a la que se puede asistir,Actividad Artística,Actividad Escénica, exhibición o espectáculo,Actividad infantil,Actividad Recreativa,Actividad Religiosa,Ceremonia,Comida popular,Procesión,Tradiciones
ATTACH;FMTTYPE=image/jpeg:https://bizicodes.com/wp-content/uploads/2024/06/San-Juan-Torralba.jpg
END:VEVENT
BEGIN:VEVENT
DTSTART;VALUE=DATE:20240629
DTEND;VALUE=DATE:20240630
DTSTAMP:20260421T083308
CREATED:20240325T154048Z
LAST-MODIFIED:20240611T142011Z
UID:10000696-1719619200-1719705599@bizicodes.com
SUMMARY:FIESTA DE LA IGUALDAD. ARAS
DESCRIPTION:La Fiesta de la Igualdad\, celebrada el último fin de semana de junio en Aras\, es un evento centrado en la igualdad de género. Esta celebración anual incluye una variedad de actividades artísticas y culturales\, todas diseñadas para promover la conciencia y el diálogo sobre la igualdad de género. Apoyada por subvenciones del Gobierno de Navarra y el Ministerio de Igualdad\,  Este evento representa un esfuerzo comunitario para abordar y celebrar la igualdad de género\, fomentando un ambiente de inclusión y respeto en el pueblo. \nPROGRAMA: \n18:30 H. LA NAVE TEATRO “NO TODO VA A SER…”\n19:45 H. PRESENTACION DEL LIBRO “EL AMANECER DEL LOBO” MIKEL CHASCO\n20:30 H. DJ IOAR SOUND
URL:https://bizicodes.com/evento/fiesta-de-la-igualdad-aras/2024-06-29/3/
LOCATION:ARAS\, Navarra\, 31239\, España
CATEGORIES:Actividad a la que se puede asistir,Actividad con causa,Actividad Escénica, exhibición o espectáculo,Ceremonia
ATTACH;FMTTYPE=image/jpeg:https://bizicodes.com/wp-content/uploads/2024/03/DIA_DE_LA_IGUALDAD_2024-Aras.jpg
END:VEVENT
BEGIN:VEVENT
DTSTART;VALUE=DATE:20240629
DTEND;VALUE=DATE:20240630
DTSTAMP:20260421T083308
CREATED:20240325T154048Z
LAST-MODIFIED:20240611T142011Z
UID:10000686-1719648000-1719680400@bizicodes.com
SUMMARY:FIESTA DE LA IGUALDAD. ARAS
DESCRIPTION:La Fiesta de la Igualdad\, celebrada el último fin de semana de junio en Aras\, es un evento centrado en la igualdad de género. Esta celebración anual incluye una variedad de actividades artísticas y culturales\, todas diseñadas para promover la conciencia y el diálogo sobre la igualdad de género. Apoyada por subvenciones del Gobierno de Navarra y el Ministerio de Igualdad\,  Este evento representa un esfuerzo comunitario para abordar y celebrar la igualdad de género\, fomentando un ambiente de inclusión y respeto en el pueblo. \nPROGRAMA: \n18:30 H. LA NAVE TEATRO “NO TODO VA A SER…”\n19:45 H. PRESENTACION DEL LIBRO “EL AMANECER DEL LOBO” MIKEL CHASCO\n20:30 H. DJ IOAR SOUND
URL:https://bizicodes.com/evento/fiesta-de-la-igualdad-aras/2024-06-29/2/
LOCATION:ARAS\, Navarra\, 31239\, España
CATEGORIES:Actividad a la que se puede asistir,Actividad con causa,Actividad Escénica, exhibición o espectáculo,Ceremonia
ATTACH;FMTTYPE=image/jpeg:https://bizicodes.com/wp-content/uploads/2024/03/DIA_DE_LA_IGUALDAD_2024-Aras.jpg
END:VEVENT
END:VCALENDAR